Workbook

Sheet F&R Lunch
A1: SFA CTDS | B1: Site Name | C1: Site CTDS | D1: SFA Entity ID | E1: Site Entity ID | F1: Site CTDS | G1: Program Participation | H1: Enrollment | I1: Free and Reduce Lunch Percentage
A2: 072122000 | B2: Alice Peterson Residence | C2: 072122007 | D2: 7320 | E2: 80290 | F2: 072122007 | G2: Regular or Provision 2/3 Base Year | H2: 16 | I2: ≥ 98%
A3: 072122000 | B3: D Mitchell RES | C3: 072122002 | D3: 7320 | E3: 7322 | F3: 072122002 | G3: Regular or Provision 2/3 Base Year | H3: 22 | I3: ≥ 98%
A4: 072122000 | B4: Larry Simmons Residence | C4: 072122006 | D4: 7320 | E4: 80289 | F4: 072122006 | G4: Regular or Provision 2/3 Base Year | H4: 21 | I4: ≥ 98%
A5: 108734000 | B5: Academy Del Sol | C5: 108734001 | D5: 90199 | E5: 90200 | F5: 108734001 | G5: Regular or Provision 2/3 Base Year | H5: 188 | I5: 0.81
A6: 108734000 | B6: Academy Del Sol - Hope | C6: 108734002 | D6: 90199 | E6: 90770 | F6: 108734002 | G6: Regular or Provision 2/3 Base Year | H6: 587 | I6: 0.74
A7: 078242000 | B7: Academy of Math and Science Desert Sky | C7: 078242002 | D7: 90878 | E7: 911531 | F7: 078242002 | G7: Regular or Provision 2/3 Base Year | H7: 1333 | I7: 0.82
A8: 078242000 | B8: Academy of Math and Science Glendale | C8: 078242004 | D8: 90878 | E8: 1000119 | F8: 078242004 | G8: Regular or Provision 2/3 Base Year | H8: 1087 | I8: 0.78
A9: 078242000 | B9: Academy of Math and Science Peoria Advanced | C9: 078242003 | D9: 90878 | E9: 1000118 | F9: 078242003 | G9: Regular or Provision 2/3 Base Year | H9: 730 | I9: 0.51
A10: 078242000 | B10: Academy of Mathematics and Science South | C10: 078242001 | D10: 90878 | E10: 92197 | F10: 078242001 | G10: Provision 2 Non-Base Year | H10: 571 | I10: 0.87
A11: 108713000 | B11: Academy of Math and Science | C11: 108713101 | D11: 79961 | E11: 79094 | F11: 108713101 | G11: Regular or Provision 2/3 Base Year | H11: 607 | I11: 0.66
A12: 078270000 | B12: Academy of Math and Science Camelback | C12: 078270001 | D12: 92768 | E12: 92769 | F12: 078270001 | G12: Provision 2 Non-Base Year | H12: 1156 | I12: 0.88
A13: 072164000 | B13: ACCEL East Campus | C13: 072164005 | D13: 7355 | E13: 7360 | F13: 072164005 | G13: Regular or Provision 2/3 Base Year | H13: 75 | I13: 0.36
A14: 072164000 | B14: ACCEL Metro Campus | C14: 072164001 | D14: 7355 | E14: 7356 | F14: 072164001 | G14: Regular or Provision 2/3 Base Year | H14: 139 | I14: 0.58
A15: 078701000 | B15: ACCLAIM Academy | C15: 078701101 | D15: 4325 | E15: 5496 | F15: 078701101 | G15: Regular or Provision 2/3 Base Year | H15: 384 | I15: 0.93
A16: 138760000 | B16: Acorn Montessori Charter School | C16: 138760101 | D16: 79437 | E16: 79438 | F16: 138760101 | G16: Regular or Provision 2/3 Base Year | H16: 333 | I16: 0.69
A17: 138760000 | B17: Acorn Montessori Charter School, Inc. - West | C17: 138760102 | D17: 79437 | E17: 88180 | F17: 138760102 | G17: Regular or Provision 2/3 Base Year | H17: 202 | I17: 0.65
A18: 219101001 | B18: Adobe Mountain School | C18: 211001001 | D18: 80381 | E18: 8327 | F18: 211001001 | G18: Regular or Provision 2/3 Base Year | H18: 232 | I18: ≥ 98%
A19: 070516000 | B19: Agua Fria High School | C19: 070516201 | D19: 4289 | E19: 5454 | F19: 070516201 | G19: Regular or Provision 2/3 Base Year | H19: 1809 | I19: 0.59
A20: 070516000 | B20: Canyon View High School | C20: 070516206 | D20: 4289 | E20: 932049 | F20: 070516206 | G20: Regular or Provision 2/3 Base Year | H20: 964 | I20: 0.27
A21: 070516000 | B21: Desert Edge High School | C21: 070516203 | D21: 4289 | E21: 79799 | F21: 070516203 | G21: Regular or Provision 2/3 Base Year | H21: 1674 | I21: 0.44
A22: 070516000 | B22: Millennium High School | C22: 070516202 | D22: 4289 | E22: 78926 | F22: 070516202 | G22: Regular or Provision 2/3 Base Year | H22: 2148 | I22: 0.22
A23: 070516000 | B23: Verrado High School | C23: 070516204 | D23: 4289 | E23: 87903 | F23: 070516204 | G23: Regular or Provision 2/3 Base Year | H23: 1842 | I23: 0.2
A24: 070363000 | B24: Aguila Elementary School | C24: 070363101 | D24: 4249 | E24: 5187 | F24: 070363101 | G24: Regular or Provision 2/3 Base Year | H24: 167 | I24: 0.86
A25: 100215000 | B25: Ajo Elementary School | C25: 100215001 | D25: 4409 | E25: 5831 | F25: 100215001 | G25: Regular or Provision 2/3 Base Year | H25: 299 | I25: 0.75
A26: 100215000 | B26: Ajo High School | C26: 100215002 | D26: 4409 | E26: 6292 | F26: 100215002 | G26: Regular or Provision 2/3 Base Year | H26: 131 | I26: 0.66
A27: 070468000 | B27: Alhambra Preschool Academy | C27: 070468119 | D27: 4280 | E27: 1000261 | F27: 070468119 | G27: Regular or Provision 2/3 Base Year | H27: 245 | I27: 0.88
A28: 070468000 | B28: Alhambra Traditional School | C28: 070468101 | D28: 4280 | E28: 5381 | F28: 070468101 | G28: Regular or Provision 2/3 Base Year | H28: 798 | I28: 0.65
A29: 070468000 | B29: Barcelona Elementary School | C29: 070468104 | D29: 4280 | E29: 5384 | F29: 070468104 | G29: Regular or Provision 2/3 Base Year | H29: 1000 | I29: 0.89
A30: 070468000 | B30: Carol G. Peck Elementary School | C30: 070468105 | D30: 4280 | E30: 6030 | F30: 070468105 | G30: Regular or Provision 2/3 Base Year | H30: 713 | I30: 0.94
... A40: 070468000 | B40: Sevilla Elementary School-West Campus | C40: 070468115 | D40: 4280 | E40: 79203 | F40: 070468115 | G40: Regular or Provision 2/3 Base Year | H40: 894 | I40: 0.89
A41: 070468000 | B41: Valencia Newcomer School | C41: 070468117 | D41: 4280 | E41: 1000042 | F41: 070468117 | G41: Regular or Provision 2/3 Base Year | H41: 220 | I41: ≥ 98%
A42: 070468000 | B42: Westwood Elementary School | C42: 070468114 | D42: 4280 | E42: 5392 | F42: 070468114 | G42: Regular or Provision 2/3 Base Year | H42: 1145 | I42: 0.93
A43: 078967000 | B43: All Aboard Charter School | C43: 078967101 | D43: 79969 | E43: 79970 | F43: 078967101 | G43: Regular or Provision 2/3 Base Year | H43: 120 | I43: 0.69
A44: 100351000 | B44: Altar Valley Middle School | C44: 100351103 | D44: 4418 | E44: 5859 | F44: 100351103 | G44: Community Eligibility Provision | H44: 299 | I44: 0.76
A45: 100351000 | B45: Robles Elementary School | C45: 100351100 | D45: 4418 | E45: 84336 | F45: 100351100 | G45: Community Eligibility Provision | H45: 328 | I45: 0.94
A46: 108794000 | B46: Alta Vista High School | C46: 108794201 | D46: 80995 | E46: 80996 | F46: 108794201 | G46: Provision 2 Non-Base Year | H46: 523 | I46: 0.84
A47: 118703000 | B47: Apache Trail High School | C47: 118703001 | D47: 79883 | E47: 6346 | F47: 118703001 | G47: Community Eligibility Provision | H47: 200 | I47: 0.83
A48: 078950000 | B48: Crestview College Preparatory High School | C48: 078950001 | D48: 79874 | E48: 78813 | F48: 078950001 | G48: Community Eligibility Provision | H48: 365 | I48: 0.87
A49: 078947000 | B49: Desert Hills High School | C49: 078947001 | D49: 79872 | E49: 78901 | F49: 078947001 | G49: Regular or Provision 2/3 Base Year | H49: 285 | I49: 0.51
...

Sheet Enrollment
A1: Fiscal Year | B1: LEA Name | C1: LEA Entity ID | D1: School Name | E1: School Entity ID | F1: PS | G1: KG | H1: 1 | I1: 2 | J1: 3 | K1: 4 | L1: 5 | M1: 6 | N1: 7 | O1: 8 | P1: 9 | Q1: 10 | R1: 11 | S1: 12 | T1: Total
A2: 2020 | B2: A Center for Creative Education | C2: 79457 | D2: Verde Valley Montessori School - A Center for Creative Education | E2: 79458 | F2: * | G2: 14 | H2: * | I2: * | J2: * | K2: * | L2: * | M2: * | N2: * | O2: * | P2: * | Q2: * | R2: * | S2: * | T2: 67
A3: 2020 | B3: Academy Del Sol, Inc. | C3: 90199 | D3: Academy Del Sol | E3: 90200 | F3: * | G3: 44 | H3: 24 | I3: 17 | J3: 20 | K3: 15 | L3: 12 | M3: 21 | N3: 20 | O3: 12 | P3: * | Q3: * | R3: * | S3: * | T3: 185
A4: 2020 | B4: Academy Del Sol, Inc. | C4: 90199 | D4: Academy Del Sol - Hope | E4: 90770 | F4: * | G4: 69 | H4: 72 | I4: 65 | J4: 69 | K4: 71 | L4: 65 | M4: 71 | N4: 53 | O4: 44 | P4: * | Q4: * | R4: * | S4: * | T4: 579
A5: 2020 | B5: Academy of Building Industries, Inc. | C5: 85540 | D5: Academy of Building Industries | E5: 85541 | F5: * | G5: * | H5: * | I5: * | J5: * | K5: * | L5: * | M5: * | N5: * | O5: * | P5: * | Q5: 22 | R5: 35 | S5: 47 | T5: 110
A6: 2020 | B6: Academy of Mathematics and Science South, Inc. | C6: 90878 | D6: Academy of Math and Science Desert Sky | E6: 911531 | F6: * | G6: 122 | H6: 167 | I6: 135 | J6: 134 | K6: 166 | L6: 168 | M6: 188 | N6: 164 | O6: 68 | P6: * | Q6: * | R6: * | S6: * | T6: 1312
A7: 2020 | B7: Academy of Mathematics and Science South, Inc. | C7: 90878 | D7: Academy of Mathematics and Science South | E7: 92197 | F7: * | G7: 52 | H7: 68 | I7: 67 | J7: 73 | K7: 61 | L7: 61 | M7: 59 | N7: 63 | O7: 59 | P7: * | Q7: * | R7: * | S7: * | T7: 563
A8: 2020 | B8: Academy of Mathematics and Science, Inc. | C8: 79961 | D8: Academy of Math and Science | E8: 79094 | F8: * | G8: 49 | H8: 93 | I8: 98 | J8: 73 | K8: 70 | L8: 67 | M8: 53 | N8: 55 | O8: 42 | P8: * | Q8: * | R8: * | S8: * | T8: 600
A9: 2020 | B9: Academy of Mathematics and Science, Inc. | C9: 92768 | D9: Academy of Math and Science Camelback | E9: 92769 | F9: * | G9: 91 | H9: 164 | I9: 123 | J9: 151 | K9: 127 | L9: 124 | M9: 121 | N9: 124 | O9: 126 | P9: * | Q9: * | R9: * | S9: * | T9: 1151
A10: 2020 | B10: Academy of Tucson, Inc. | C10: 78897 | D10: Academy of Tucson Elementary School | E10: 81130 | F10: * | G10: 32 | H10: 34 | I10: 43 | J10: 39 | K10: 44 | L10: * | M10: * | N10: * | O10: * | P10: * | Q10: * | R10: * | S10: * | T10: 192
A11: 2020 | B11: Academy of Tucson, Inc. | C11: 78897 | D11: Academy of Tucson High School | E11: 78898 | F11: * | G11: * | H11: * | I11: * | J11: * | K11: * | L11: * | M11: * | N11: * | O11: * | P11: 50 | Q11: 49 | R11: 27 | S11: 29 | T11: 155
A12: 2020 | B12: Academy of Tucson, Inc. | C12: 78897 | D12: Academy of Tucson Middle School | E12: 79986 | F12: * | G12: * | H12: * | I12: * | J12: * | K12: * | L12: 38 | M12: 71 | N12: 69 | O12: 71 | P12: * | Q12: * | R12: * | S12: * | T12: 249
A13: 2020 | B13: Academy with Community Partners Inc | C13: 79213 | D13: Academy with Community Partners | E13: 10795 | F13: * | G13: * | H13: * | I13: * | J13: * | K13: * | L13: * | M13: * | N13: * | O13: * | P13: * | Q13: 18 | R13: 27 | S13: 81 | T13: 132
A14: 2020 | B14: ACCEL | C14: 7355 | D14: ACCEL Buckeye Learning Center | E14: 91260 | F14: * | G14: * | H14: * | I14: * | J14: * | K14: * | L14: * | M14: * | N14: * | O14: * | P14: * | Q14: * | R14: * | S14: * | T14: 15
A15: 2020 | B15: ACCEL | C15: 7355 | D15: ACCEL East Campus | E15: 7360 | F15: * | G15: * | H15: * | I15: * | J15: * | K15: * | L15: * | M15: * | N15: * | O15: * | P15: * | Q15: * | R15: * | S15: 19 | T15: 62
A16: 2020 | B16: ACCEL | C16: 7355 | D16: ACCEL Metro Campus | E16: 7356 | F16: * | G16: * | H16: * | I16: * | J16: * | K16: * | L16: * | M16: 12 | N16: 13 | O16: * | P16: 12 | Q16: * | R16: 17 | S16: 31 | T16: 112
A17: 2020 | B17: ACCEL | C17: 7355 | D17: ACCEL Ruth Fisher Campus | E17: 1000307 | F17: * | G17: * | H17: * | I17: * | J17: * | K17: * | L17: * | M17: * | N17: * | O17: * | P17: * | Q17: * | R17: * | S17: * | T17: *
A18: 2020 | B18: Accelerated Elementary and Secondary Schools | C18: 6364 | D18: Accelerated Learning Laboratory | E18: 5891 | F18: * | G18: 12 | H18: 16 | I18: 15 | J18: 14 | K18: * | L18: 14 | M18: 21 | N18: 12 | O18: 14 | P18: 15 | Q18: 11 | R18: 14 | S18: * | T18: 173
A19: 2020 | B19: Accelerated Learning Center, Inc. | C19: 4297 | D19: Accelerated Learning Center | E19: 5462 | F19: * | G19: * | H19: * | I19: * | J19: * | K19: * | L19: * | M19: * | N19: * | O19: * | P19: * | Q19: 21 | R19: 50 | S19: 87 | T19: 168
A20: 2020 | B20: Acclaim Charter School | C20: 4325 | D20: ACCLAIM Academy | E20: 5496 | F20: * | G20: 45 | H20: 35 | I20: 31 | J20: 33 | K20: 31 | L20: 53 | M20: 41 | N20: 50 | O20: 47 | P20: * | Q20: * | R20: * | S20: * | T20: 366
A21: 2020 | B21: Acorn Montessori Charter School | C21: 79437 | D21: Acorn Montessori Charter School | E21: 79438 | F21: * | G21: * | H21: * | I21: * | J21: 62 | K21: 49 | L21: 55 | M21: 55 | N21: 49 | O21: 49 | P21: * | Q21: * | R21: * | S21: * | T21: 319
A22: 2020 | B22: Acorn Montessori Charter School | C22: 79437 | D22: Acorn Montessori Charter School, Inc. - West | E22: 88180 | F22: * | G22: 59 | H22: 65 | I22: 60 | J22: * | K22: * | L22: * | M22: * | N22: * | O22: * | P22: * | Q22: * | R22: * | S22: * | T22: 184
A23: 2020 | B23: Agua Fria Union High School District | C23: 4289 | D23: Agua Fria High School | E23: 5454 | F23: * | G23: * | H23: * | I23: * | J23: * | K23: * | L23: * | M23: * | N23: * | O23: * | P23: 433 | Q23: 458 | R23: 493 | S23: 434 | T23: 1818
A24: 2020 | B24: Agua Fria Union High School District | C24: 4289 | D24: Canyon View High School | E24: 932049 | F24: * | G24: * | H24: * | I24: * | J24: * | K24: * | L24: * | M24: * | N24: * | O24: * | P24: 503 | Q24: 450 | R24: * | S24: * | T24: 960
A25: 2020 | B25: Agua Fria Union High School District | C25: 4289 | D25: Desert Edge High School | E25: 79799 | F25: * | G25: * | H25: * | I25: * | J25: * | K25: * | L25: * | M25: * | N25: * | O25: * | P25: 435 | Q25: 423 | R25: 442 | S25: 354 | T25: 1654
A26: 2020 | B26: Agua Fria Union High School District | C26: 4289 | D26: Millennium High School | E26: 78926 | F26: * | G26: * | H26: * | I26: * | J26: * | K26: * | L26: * | M26: * | N26: * | O26: * | P26: 477 | Q26: 436 | R26: 581 | S26: 616 | T26: 2110
A27: 2020 | B27: Agua Fria Union High School District | C27: 4289 | D27: Verrado High School | E27: 87903 | F27: * | G27: * | H27: * | I27: * | J27: * | K27: * | L27: * | M27: * | N27: * | O27: * | P27: 395 | Q27: 401 | R27: 518 | S27: 482 | T27: 1796
A28: 2020 | B28: Aguila Elementary District | C28: 4249 | D28: Aguila Elementary School | E28: 5187 | F28: * | G28: 13 | H28: 19 | I28: 14 | J28: * | K28: 14 | L28: 21 | M28: 14 | N28: 21 | O28: 19 | P28: * | Q28: * | R28: * | S28: * | T28: 145
A29: 2020 | B29: AIBT Non-Profit Charter High School - Phoenix | C29: 79053 | D29: RCB Medical Arts Academy | E29: 79123 | F29: * | G29: * | H29: * | I29: * | J29: * | K29: * | L29: * | M29: * | N29: * | O29: * | P29: * | Q29: 15 | R29: 26 | S29: 57 | T29: 103
A30: 2020 | B30: AIBT Non-Profit Charter High School, Inc. | C30: 449790 | D30: RCB College Preparatory Academy | E30: 742847 | F30: * | G30: * | H30: * | I30: * | J30: * | K30: * | L30: * | M30: * | N30: * | O30: * | P30: * | Q30: * | R30: * | S30: * | T30: 7
A31: 2020 | B31: Ajo Unified District | C31: 4409 | D31: Ajo Elementary School | E31: 5831 | F31: 11 | G31: 23 | H31: 26 | I31: 29 | J31: 24 | K31: 43 | L31: 36 | M31: 39 | N31: 42 | O31: 32 | P31: * | Q31: * | R31: * | S31: * | T31: 305
A32: 2020 | B32: Ajo Unified District | C32: 4409 | D32: Ajo High School | E32: 6292 | F32: * | G32: * | H32: * | I32: * | J32: * | K32: * | L32: * | M32: * | N32: * | O32: * | P32: 36 | Q32: 35 | R32: 29 | S32: 35 | T32: 135
A33: 2020 | B33: Akimel O Otham Pee Posh Charter School, Inc. | C33: 5978 | D33: Akimel O'Otham Pee Posh (K-2) | E33: 10797 | F33: * | G33: * | H33: * | I33: * | J33: * | K33: * | L33: * | M33: * | N33: * | O33: * | P33: * | Q33: * | R33: * | S33: * | T33: 11
A34: 2020 | B34: Akimel O'Otham Pee Posh Charter School, Inc. | C34: 78966 | D34: Akimel O'Otham Pee Posh (3-5) | E34: 78967 | F34: * | G34: * | H34: * | I34: * | J34: * | K34: * | L34: * | M34: * | N34: * | O34: * | P34: * | Q34: * | R34: * | S34: * | T34: *
A35: 2020 | B35: Alhambra Elementary District | C35: 4280 | D35: Alhambra Preschool Academy | E35: 1000261 | F35: 131 | G35: * | H35: * | I35: * | J35: * | K35: * | L35: * | M35: * | N35: * | O35: * | P35: * | Q35: * | R35: * | S35: * | T35: 131
A36: 2020 | B36: Alhambra Elementary District | C36: 4280 | D36: Alhambra Traditional School | E36: 5381 | F36: * | G36: 98 | H36: 90 | I36: 93 | J36: 84 | K36: 88 | L36: 84 | M36: 92 | N36: 87 | O36: 74 | P36: * | Q36: * | R36: * | S36: * | T36: 790
A37: 2020 | B37: Alhambra Elementary District | C37: 4280 | D37: Barcelona Elementary School | E37: 5384 | F37: * | G37: 78 | H37: 111 | I37: 99 | J37: 91 | K37: 107 | L37: 103 | M37: 117 | N37: 129 | O37: 138 | P37: * | Q37: * | R37: * | S37: * | T37: 973
A38: 2020 | B38: Alhambra Elementary District | C38: 4280 | D38: Carol G. Peck Elementary School | E38: 6030 | F38: * | G38: 79 | H38: 69 | I38: 86 | J38: 78 | K38: 72 | L38: 85 | M38: 62 | N38: 86 | O38: 74 | P38: * | Q38: * | R38: * | S38: * | T38: 691
A39: 2020 | B39: Alhambra Elementary District | C39: 4280 | D39: Catalina Ventura School | E39: 5385 | F39: * | G39: 101 | H39: 87 | I39: 106 | J39: 106 | K39: 116 | L39: 122 | M39: 146 | N39: 138 | O39: 145 | P39: * | Q39: * | R39: * | S39: * | T39: 1067
A40: 2020 | B40: Alhambra Elementary District | C40: 4280 | D40: Cordova Elementary School | E40: 5386 | F40: * | G40: 93 | H40: 78 | I40: 84 | J40: 92 | K40: 96 | L40: 131 | M40: 124 | N40: 128 | O40: 122 | P40: * | Q40: * | R40: * | S40: * | T40: 948
...

Sheet Sheet10

Sheet All Public Schools
A1: CTDS | B1: NAME | C1: STREETNUMBER | D1: CITY_STATE_ZIP | E1: TELEPHONE | F1: FAX
A2: 138761000 | B2: A CENTER FOR CREATIVE EDUCATION | C2: PO BOX 2678 | D2: COTTONWOOD AZ 86326 2509 | E2: (928) 634-3288 | F2: (928) 634-9781
A3: 108731000 | B3: A CHILD'S VIEW SCHOOL, INC. | C3: 2846 W DREXEL RD STE 100 | D3: TUCSON AZ 85746 3824 | E3: (520) 578-2075 | F3: (520) 578-2076
A4: 108731101 | B4: A CHILD'S VIEW SCHOOL-CLOSED | C4: 2846 W DREXEL RD STE 100 | D4: TUCSON AZ 85746 3824 | E4: (520) 578-2075 | F4: (520) 578-2076
A5: 120201114 | B5: A J MITCHELL ELEMENTARY SCHOOL | C5: 855 N BAUTISTA ST | D5: NOGALES AZ 85621 1843 | E5: (520) 287-0840 | F5: (520) 287-0847
A6: 118720000 | B6: A+ CHARTER SCHOOLS | C6: 41600 W SMITH-ENKE RD | D6: MARICOPA AZ 85138
A7: 118720001 | B7: A+ CHARTER SCHOOLS | C7: 41600 W. SMITH-ENKE RD., BLDG 12 | D7: MARICOPA AZ 85138
A8: 100206038 | B8: A. C. E. | C8: 11279 W GRIER RD | D8: MARANA AZ 85653 9609 | E8: () - | F8: () -
A9: 78707202 | B9: AAEC - PARADISE VALLEY | C9: 3775 E UNION HILLS DR | D9: PHOENIX AZ 85050 3214 | E9: (602) 243-8004 | F9: (602) 243-8001
A10: 78993201 | B10: AAEC - SMCC CAMPUS | C10: 315 E MULBERRY DR | D10: PHOENIX AZ 85012 2307 | E10: () - | F10: () -
A11: 78993201 | B11: AAEC - SMCC CAMPUS | C11: 7050 S 24TH ST BLDG AAEC | D11: PHOENIX AZ 85042 5806 | E11: (602) 243-8004 | F11: (602) 297-8540
A12: 130201016 | B12: ABIA JUDD ELEMENTARY SCHOOL | C12: 1749 N WILLIAMSON VALLEY RD | D12: PRESCOTT AZ 86305 5219 | E12: () - | F12: () -
A13: 78689000 | B13: ABRAHAM LINCOLN PREPARATORY SCHOOL: A CHALLENGE FOUNDATION ACADEMY | C13: PO BOX NO. 5733 | D13: GLENDALE AZ 85312 | E13: () - | F13: () -
A14: 78689101 | B14: ABRAHAM LINCOLN PREPARATORY SCHOOL: A CHALLENGE FOUNDATION ACADEMY | C14: PO BOX 5733 | D14: GLENDALE AZ 85312 5733
A15: 70406167 | B15: ABRAHAM LINCOLN TRADITIONAL SCHOOL | C15: 10444 N 39TH AVE | D15: PHOENIX AZ 85051 1179 | E15: (602) 896-6300 | F15: (602) 896-6320
A16: 70406114 | B16: ACACIA ELEMENTARY SCHOOL | C16: 3021 W EVANS DR | D16: PHOENIX AZ 85053 5748 | E16: (602) 896-5000 | F16: (602) 896-5020
A17: 100220102 | B17: ACACIA ELEMENTARY SCHOOL | C17: 12955 E COLOSSAL CAVE RD | D17: VAIL AZ 85641 9003 | E17: () - | F17: () -
A18: 100220119 | B18: ACACIA ELEMENTARY SCHOOL | C18: 12955 E COLOSSAL CAVE RD | D18: VAIL AZ 85641 9003 | E18: (520) 879-2200 | F18: () -
A19: 108717103 | B19: ACADEMY ADVENTURES MID-TOWN | C19: 1950 E PLACITA SIN NOMBRE | D19: TUCSON AZ 85718 2092 | E19: (520) 407-1200 | F19: (520) 407-1201
A20: 108506101 | B20: ACADEMY ADVENTURES MIDTOWN | C20: 3025 N WINSTEL BLVD | D20: TUCSON AZ 85716 1740 | E20: (520) 465-1415 | F20: (520) 760-3800
A21: 108717101 | B21: ACADEMY ADVENTURES PRIMARY SCHOOL | C21: 3902 N FLOWING WELLS RD | D21: TUCSON AZ 85705 2403 | E21: (520) 407-1200 | F21: (520) 407-1201
A22: 108734001 | B22: ACADEMY DEL SOL | C22: 732 W ROGER RD | D22: TUCSON AZ 85705 2621 | E22: (520) 325-2800 | F22: (520) 325-2812
A23: 108734002 | B23: ACADEMY DEL SOL - HOPE | C23: 7102 W VALLEY CREST PL | D23: TUCSON AZ 85757 8709 | E23: (520) 325-2800 | F23: (520) 325-2811
A24: 108734000 | B24: ACADEMY DEL SOL, INC. | C24: 4525 E BROADWAY BLVD | D24: TUCSON AZ 85711 3509
A25: 108734000 | B25: ACADEMY DEL SOL, INC. | C25: 8379 W AVECENNA ST | D25: TUCSON AZ 85757 6816 | E25: (520) 325-2800 | F25: (520) 325-2812
A26: 88704201 | B26: ACADEMY OF BUILDING INDUSTRIES | C26: 1547 E LIPAN BLVD | D26: FORT MOHAVE AZ 86426 6031 | E26: (928) 788-2601 | F26: () -
A27: 88704000 | B27: ACADEMY OF BUILDING INDUSTRIES, INC. | C27: 1547 E LIPAN BLVD | D27: FORT MOHAVE AZ 86426 6031 | E27: (928) 788-2601 | F27: (928) 788-2610
A28: 78604101 | B28: ACADEMY OF EXCELLENCE | C28: 425 N 36TH ST | D28: PHOENIX AZ 85008 6303
A29: 78604101 | B29: ACADEMY OF EXCELLENCE | C29: 425 N 36TH ST | D29: PHOENIX AZ 85008 6303 | E29: (602) 389-4271 | F29: (602) 389-4278
A30: 78604004 | B30: ACADEMY OF EXCELLENCE - CENTRAL ARIZONA-CLOSED | C30: 1530 S ARIZONA BLVD | D30: COOLIDGE AZ 85128 5905 | E30: (520) 723-4773 | F30: () -
A31: 78604000 | B31: ACADEMY OF EXCELLENCE, INC. | C31: 425 N 36TH ST | D31: PHOENIX AZ 85008 6303 | E31: (602) 389-4271 | F31: (602) 389-4278
A32: 108713101 | B32: ACADEMY OF MATH AND SCIENCE | C32: 1557 W PRINCE RD | D32: TUCSON AZ 85705 3023 | E32: () - | F32: () -
A33: 78242005 | B33: ACADEMY OF MATH AND SCIENCE AVONDALE | C33: 3448 N 1ST AVE | D33: TUCSON AZ 85719 1842
A34: 78270001 | B34: ACADEMY OF MATH AND SCIENCE CAMELBACK | C34: 6633 W CAMELBACK RD | D34: PHOENIX AZ 85033 1614 | E34: (623) 295-9069 | F34: (623) 594-8078
A35: 78242002 | B35: ACADEMY OF MATH AND SCIENCE DESERT SKY | C35: 3448 N 1ST AVE | D35: TUCSON AZ 85719 1842 | E35: (520) 887-5392 | F35: (520) 888-1732
A36: 78242004 | B36: ACADEMY OF MATH AND SCIENCE GLENDALE | C36: 3448 N 1ST AVE | D36: TUCSON AZ 85719 1842
A37: 78242003 | B37: ACADEMY OF MATH AND SCIENCE PEORIA ADVANCED | C37: 3448 N 1ST AVE | D37: TUCSON AZ 85719 1842
A38: 78242006 | B38: ACADEMY OF MATH AND SCIENCE SOUTH MOUNTAIN | C38: 3448 N 1ST AVE | D38: TUCSON AZ 85719 1842
A39: 78242001 | B39: ACADEMY OF MATHEMATICS AND SCIENCE SOUTH | C39: 1557 W PRINCE RD | D39: TUCSON AZ 85705 3023 | E39: () - | F39: () -
A40: 78242000 | B40: ACADEMY OF MATHEMATICS AND SCIENCE SOUTH, INC. | C40: 1557 W PRINCE RD | D40: TUCSON AZ 85705 3023 | E40: (520) 293-2676 | F40: (520) 888-1732
...

Sheet Title 1 Schools
A1: County | B1: School Number | C1: District Name | D1: School Name
A2: Apache | B2: 10224145 | C2: Chinle Unified District | D2: Chinle Junior High School
A3: Apache | B3: 10224150 | C3: Chinle Unified District | D3: Chinle Elementary School
A4: Apache | B4: 10224155 | C4: Chinle Unified District | D4: Canyon De Chelly Elementary School
A5: Apache | B5: 10224160 | C5: Chinle Unified District | D5: Many Farms Elementary School
A6: Apache | B6: 10224165 | C6: Chinle Unified District | D6: Tsaile Elementary School
A7: Apache | B7: 10224170 | C7: Chinle Unified District | D7: Mesa View Elementary
A8: Apache | B8: 10224240 | C8: Chinle Unified District | D8: Chinle High School
A9: Apache | B9: 10306101 | C9: Concho Elementary District | D9: Concho Elementary School
A10: Apache | B10: 10220101 | C10: Ganado Unified School District | D10: Ganado Elementary School
A11: Apache | B11: 10220102 | C11: Ganado Unified School District | D11: Ganado Intermediate School
A12: Apache | B12: 10220103 | C12: Ganado Unified School District | D12: Ganado Middle School
A13: Apache | B13: 10220204 | C13: Ganado Unified School District | D13: Ganado High School
... A1321: Yuma | B1321: 140570207 | C1321: Yuma Union High School District | D1321: Gila Ridge High School

Sheet Combined Data
A1: LEA Name | B1: LEA Entity ID | C1: School Name | D1: School Entity ID | E1: Enrollment | F1: Title 1 | G1: F/R Lunch | H1: Eligible for ESA
A2: Maricopa County Head Start | B2: 7432 | C2: 1ST ACADEMY PRESCHOOL & CHILDCARE | D2: 1000053
A3: Nogales Unified District | B3: 4457 | C3: A J Mitchell Elementary School | D3: 5958
A4: Marana Unified District | B4: 4404 | C4: A. C. E. | D4: 5768
A5: Arizona Agribusiness & Equine Center, Inc. | B5: 4331 | C5: AAEC - Paradise Valley | D5: 6344
A6: Arizona Agribusiness & Equine Center, Inc. | B6: 85816 | C6: AAEC - SMCC Campus | D6: 5503
A7: Prescott Unified District | B7: 4466 | C7: Abia Judd Elementary School | D7: 8132
A8: Washington Elementary School District | B8: 4260 | C8: Abraham Lincoln Traditional School | D8: 5274
A9: Vail Unified District | B9: 4413 | C9: Acacia Elementary School | D9: 91168
A10: Washington Elementary School District | B10: 4260 | C10: Acacia Elementary School | D10: 5244
A11: Ed Ahead | B11: 90506 | C11: Academy Adventures Midtown | D11: 90507
A12: Academy Del Sol, Inc. | B12: 90199 | C12: Academy Del Sol | D12: 90200
A13: Academy Del Sol, Inc. | B13: 90199 | C13: Academy Del Sol - Hope | D13: 90770
... A85: Amphitheater Unified District | B85: 4406 | C85: Amphitheater Middle School | D85: 5805
A86: Scottsdale Unified District | B86: 4240 | C86: Anasazi Elementary | D86: 6009 | E86: =VLOOKUP(D86,Enrollment!E:T,16,FALSE) -> 391 | F86: No | G86: =VLOOKUP(D86,'F&R Lunch'!E:I,5,FALSE) -> 0.13 | H86: =IF(F86="Yes",E86,G86*E86) -> 50.83
A87: Vail Unified District | B87: 4413 | C87: Andrada Polytechnic High School | D87: 91292
A88: Tucson Unified District | B88: 4403 | C88: Anna Henry Elementary School | D88: 5685
A89: Tucson Unified District | B89: 4403 | C89: Anna Lawrence Intermediate School | D89: 5694
A90: Chandler Unified District #80 | B90: 4242 | C90: Anna Marie Jacobson Elementary School | D90: 5117
A91: Tucson Unified District | B91: 4403 | C91: Annie Kellond Elementary School | D91: 5693
A92: Antelope Union High School District | B92: 4506 | C92: Antelope Union High School | D92: 6188
A93: Florence Unified School District | B93: 4437 | C93: Anthem Elementary School | D93: 88400
A94: Deer Valley Unified District | B94: 4246 | C94: Anthem School | D94: 78922
A95: Sahuarita Unified District | B95: 4411 | C95: Anza Trail | D95: 88387
A96: Apache Elementary District | B96: 4178 | C96: Apache Elementary School | D96: 4786
A97: Peoria Unified School District | B97: 4237 | C97: Apache Elementary School | D97: 5006
A98: Apache Junction Unified District | B98: 4443 | C98: Apache Junction High School | D98: 5925
... A101: Sunnyside Unified District | B101: 4407 | C101: Apollo Middle School | D101: 5809
A102: Scottsdale Unified District | B102: 4240 | C102: Arcadia High School | D102: 5066 | E102: =VLOOKUP(D102,Enrollment!E:T,16,FALSE) -> 1823 | F102: No | G102: =VLOOKUP(D102,'F&R Lunch'!E:I,5,FALSE) -> 0.28 | H102: =IF(F102="Yes",E102,G102*E102) -> 510.44
A103: ARCHES Academy | B103: 92980 | C103: ARCHES Academy | D103: 1000276
A104: Arizona Agribusiness & Equine Center, Inc. | B104: 90779 | C104: Arizona Agribusiness & Equine Center - Estrella | D104: 90780
A105: Arizona Agribusiness & Equine Center INC. | B105: 134379 | C105: Arizona Agribusiness & Equine Center, Inc. - Mesa | D105: 156568
A106: Arizona Agribusiness & Equine Center, Inc. | B106: 91131 | C106: Arizona Agribusiness & Equine Center, Inc. - Prescott Valley | D106: 91132
A107: Arizona Agribusiness & Equine Center, Inc. | B107: 87403 | C107: Arizona Agribusiness & Equine Center, Inc. - Red Mountain | D107: 87404
A108: Arizona Autism Charter Schools, Inc. | B108: 91958 | C108: Arizona Autism Charter School | D108: 92598
A109: Arizona Autism Charter Schools, Inc. | B109: 91958 | C109: Arizona Autism Charter School, Upper School Campus | D109: 92984
A110: Success School | B110: 79453 | C110: Arizona Charter Academy | D110: 79454
A111: Toltec School District | B111: 4450 | C111: Arizona City Elementary School | D111: 92244
A112: Collaborative Pathways, Inc. | B112: 91773 | C112: Arizona College Prep Academy | D112: 10733
A113: Chandler Unified District #80 | B113: 4242 | C113: Arizona College Prep Erie Campus | D113: 89591
...

Sheet Findings
A2: Students Eligible for ESAs | C2: =SUM('Combined Data'!H86:H2239) -> 7284.71
B4: Participation Rate | C4: SUSD Students Utilizing ESAs | D4: Monetary Loss | E4: Cumulative
A5: FY22 Participation | B5: 0.01 | C5: =C2*B5 -> 72.8471 | D5: =C5*5500 -> 400659.05 | E5: =D5 -> 400659.05
A6: FY23 Participation | B6: 0.015 | C6: =($C$2-C5)*B6 -> 108.17794 | D6: =C6*5500 -> 594978.69 | E6: =E5+D6 -> 995637.74
A7: FY24 Participation | B7: 0.02 | C7: =($C$2-C6)*B7 -> 143.53064 | D7: =C7*5500 -> 789418.53 | E7: =E6+D7 -> 1785056.3
A8: FY25 Participation | B8: 0.026 | C8: =($C$2-C7)*B8 -> 185.67066 | D8: =C8*5500 -> 1021188.6 | E8: =E7+D8 -> 2806244.9
A10: Full participation | B10: 0.026 | C10: =C2*B10 -> 189.40246 | D10: =C10*5500 -> 1041713.5
